Workbook

Sheet entry.form
E3: Catch Device Worksheet
E4: Enter audit run time in upper green cell
E5: Enter depth of water in inches (decimal) for each catch device in the numbered green cells
K8: Run Time (tR), min.
E10: Zone
C12: 1 | F12: =+C23+1 -> 13 | I12: =F23+1 -> 25 | L12: =I23+1 -> 37
C13: 2 | F13: =+F12+1 -> 14 | I13: =+I12+1 -> 26 | L13: =+L12+1 -> 38
C14: 3 | F14: =+F13+1 -> 15 | I14: =+I13+1 -> 27 | L14: =+L13+1 -> 39
C15: 4 | F15: =+F14+1 -> 16 | I15: =+I14+1 -> 28 | L15: =+L14+1 -> 40
C16: 5 | F16: =+F15+1 -> 17 | I16: =+I15+1 -> 29 | L16: =+L15+1 -> 41
C17: 6 | F17: =+F16+1 -> 18 | I17: =+I16+1 -> 30 | L17: =+L16+1 -> 42
C18: 7 | F18: =+F17+1 -> 19 | I18: =+I17+1 -> 31 | L18: =+L17+1 -> 43
C19: 8 | F19: =+F18+1 -> 20 | I19: =+I18+1 -> 32 | L19: =+L18+1 -> 44
C20: 9 | F20: =+F19+1 -> 21 | I20: =+I19+1 -> 33 | L20: =+L19+1 -> 45
C21: 10 | F21: =+F20+1 -> 22 | I21: =+I20+1 -> 34 | L21: =+L20+1 -> 46
C22: 11 | F22: =+F21+1 -> 23 | I22: =+I21+1 -> 35 | L22: =+L21+1 -> 47
C23: 12 | F23: =+F22+1 -> 24 | I23: =+I22+1 -> 36 | L23: =+L22+1 -> 48
C26: Distribution Uniformity (DU) | K26: Precipitation Rate (PR)
E27: DULQ | F27: =(sandbox!F9/sandbox!F$13)*100 -> #N/A | K27: PR (in./hr) | N27: =(sandbox!F13/N8)*60 -> #DIV/0!
E28: DULH | F28: =(sandbox!F11/sandbox!F$13)*100 -> #N/A | K28: PR (mm/hr) | N28: =N27*25.4 -> #DIV/0!

Sheet sandbox
C2: all.columns
C3: =IF(entry.form!E12<>"",entry.form!E12,"") | J3: Lowest n | K3: 1 | L3: 2 | M3: 3 | N3: 4 | O3: 5 | P3: 6 | Q3: 7 | R3: 8 | S3: 9 | T3: 10 | U3: 11 | V3: 12 | W3: 13 | X3: 14 | Y3: 15 | Z3: 16 | AA3: 17 | AB3: 18 | AC3: 19 | AD3: 20 | AE3: 21 | AF3: 22 | AG3: 23 | AH3: 24
C4: =IF(entry.form!E13<>"",entry.form!E13,"") | F4: =COUNT(entry.form!E12:E23,entry.form!H12:H23,entry.form!K12:K23,entry.form!N12:N23) -> 0 | G4: number of samples | K4: {=SMALL($C2:$C50,{1})} -> #NUM! | L4: {=SMALL($C2:$C50,{1;2})} -> #NUM! | M4: {=SMALL($C2:$C50,{1;2;3})} -> #NUM! | N4: {=SMALL($C2:$C50,{1;2;3;4})} -> #NUM! | O4: {=SMALL($C2:$C50,{1;2;3;4;5})} -> #NUM! | P4: {=SMALL($C2:$C50,{1;2;3;4;5;6})} -> #NUM! | Q4: {=SMALL($C2:$C50,{1;2;3;4;5;6;7})} -> #NUM! | R4: {=SMALL($C2:$C50,{1;2;3;4;5;6;7;8})} -> #NUM! | S4: {=SMALL($C2:$C50,{1;2;3;4;5;6;7;8;9})} -> #NUM! | T4: {=SMALL($C2:$C50,{1;2;3;4;5;6;7;8;9;10})} -> #NUM! | U4: {=SMALL($C2:$C50,{1;2;3;4;5;6;7;8;9;10;11})} -> #NUM! | V4: {=SMALL($C2:$C50,{1;2;3;4;5;6;7;8;9;10;11;12})} -> #NUM! | W4: {=SMALL($C2:$C50,{1;2;3;4;5;6;7;8;9;10;11;12;13})} -> #NUM! | X4: {=SMALL($C2:$C50,{1;2;3;4;5;6;7;8;9;10;11;12;13;14})} -> #NUM! | Y4: {=SMALL($C2:$C50,{1;2;3;4;5;6;7;8;9;10;11;12;13;14;15})} -> #NUM! | Z4: {=SMALL($C2:$C50,{1;2;3;4;5;6;7;8;9;10;11;12;13;14;15;16})} -> #NUM! | AA4: {=SMALL($C2:$C50,{1;2;3;4;5;6;7;8;9;10;11;12;13;14;15;16;17})} -> #NUM! | AB4: {=SMALL($C2:$C50,{1;2;3;4;5;6;7;8;9;10;11;12;13;14;15;16;17;18})} -> #NUM! | AC4: {=SMALL($C2:$C50,{1;2;3;4;5;6;7;8;9;10;11;12;13;14;15;16;17;18;19})} -> #NUM! | AD4: {=SMALL($C2:$C50,{1;2;3;4;5;6;7;8;9;10;11;12;13;14;15;16;17;18;19;20})} -> #NUM! | AE4: {=SMALL($C2:$C50,{1;2;3;4;5;6;7;8;9;10;11;12;13;14;15;16;17;18;19;20;21})} -> #NUM! | AF4: {=SMALL($C2:$C50,{1;2;3;4;5;6;7;8;9;10;11;12;13;14;15;16;17;18;19;20;21;22})} -> #NUM! | AG4: {=SMALL($C2:$C50,{1;2;3;4;5;6;7;8;9;10;11;12;13;14;15;16;17;18;19;20;21;22;23})} -> #NUM! | AH4: {=SMALL($C2:$C50,{1;2;3;4;5;6;7;8;9;10;11;12;13;14;15;16;17;18;19;20;21;22;23;24})} -> #NUM!
C5: =IF(entry.form!E14<>"",entry.form!E14,"") | F5: =CEILING(F4/4,1) -> 0 | G5: number in low quarter | L5: #NUM! | M5: #NUM! | N5: #NUM! | O5: #NUM! | P5: #NUM! | Q5: #NUM! | R5: #NUM! | S5: #NUM! | T5: #NUM! | U5: #NUM! | V5: #NUM! | W5: #NUM! | X5: #NUM! | Y5: #NUM! | Z5: #NUM! | AA5: #NUM! | AB5: #NUM! | AC5: #NUM! | AD5: #NUM! | AE5: #NUM! | AF5: #NUM! | AG5: #NUM! | AH5: #NUM!
C6: =IF(entry.form!E15<>"",entry.form!E15,"") | F6: =CEILING(F4/2,1) -> 0 | G6: number in low half | M6: #NUM! | N6: #NUM! | O6: #NUM! | P6: #NUM! | Q6: #NUM! | R6: #NUM! | S6: #NUM! | T6: #NUM! | U6: #NUM! | V6: #NUM! | W6: #NUM! | X6: #NUM! | Y6: #NUM! | Z6: #NUM! | AA6: #NUM! | AB6: #NUM! | AC6: #NUM! | AD6: #NUM! | AE6: #NUM! | AF6: #NUM! | AG6: #NUM! | AH6: #NUM!
C7: =IF(entry.form!E16<>"",entry.form!E16,"") | N7: #NUM! | O7: #NUM! | P7: #NUM! | Q7: #NUM! | R7: #NUM! | S7: #NUM! | T7: #NUM! | U7: #NUM! | V7: #NUM! | W7: #NUM! | X7: #NUM! | Y7: #NUM! | Z7: #NUM! | AA7: #NUM! | AB7: #NUM! | AC7: #NUM! | AD7: #NUM! | AE7: #NUM! | AF7: #NUM! | AG7: #NUM! | AH7: #NUM!
C8: =IF(entry.form!E17<>"",entry.form!E17,"") | F8: =HLOOKUP(F5,$K$3:$AH$29,27) -> #N/A | G8: depth low quarter | O8: #NUM! | P8: #NUM! | Q8: #NUM! | R8: #NUM! | S8: #NUM! | T8: #NUM! | U8: #NUM! | V8: #NUM! | W8: #NUM! | X8: #NUM! | Y8: #NUM! | Z8: #NUM! | AA8: #NUM! | AB8: #NUM! | AC8: #NUM! | AD8: #NUM! | AE8: #NUM! | AF8: #NUM! | AG8: #NUM! | AH8: #NUM!
C9: =IF(entry.form!E18<>"",entry.form!E18,"") | F9: =F8/F5 -> #N/A | G9: Average depth lq | I9: < added in | P9: #NUM! | Q9: #NUM! | R9: #NUM! | S9: #NUM! | T9: #NUM! | U9: #NUM! | V9: #NUM! | W9: #NUM! | X9: #NUM! | Y9: #NUM! | Z9: #NUM! | AA9: #NUM! | AB9: #NUM! | AC9: #NUM! | AD9: #NUM! | AE9: #NUM! | AF9: #NUM! | AG9: #NUM! | AH9: #NUM!
C10: =IF(entry.form!E19<>"",entry.form!E19,"") | F10: =HLOOKUP(F6,$K$3:$AH$29,27) -> #N/A | G10: depth low half | Q10: #NUM! | R10: #NUM! | S10: #NUM! | T10: #NUM! | U10: #NUM! | V10: #NUM! | W10: #NUM! | X10: #NUM! | Y10: #NUM! | Z10: #NUM! | AA10: #NUM! | AB10: #NUM! | AC10: #NUM! | AD10: #NUM! | AE10: #NUM! | AF10: #NUM! | AG10: #NUM! | AH10: #NUM!
C11: =IF(entry.form!E20<>"",entry.form!E20,"") | F11: =F10/F6 -> #N/A | G11: Average depth lh | I11: < added in | R11: #NUM! | S11: #NUM! | T11: #NUM! | U11: #NUM! | V11: #NUM! | W11: #NUM! | X11: #NUM! | Y11: #NUM! | Z11: #NUM! | AA11: #NUM! | AB11: #NUM! | AC11: #NUM! | AD11: #NUM! | AE11: #NUM! | AF11: #NUM! | AG11: #NUM! | AH11: #NUM!
C12: =IF(entry.form!E21<>"",entry.form!E21,"") | F12: =C51 -> 0 | G12: total depth | S12: #NUM! | T12: #NUM! | U12: #NUM! | V12: #NUM! | W12: #NUM! | X12: #NUM! | Y12: #NUM! | Z12: #NUM! | AA12: #NUM! | AB12: #NUM! | AC12: #NUM! | AD12: #NUM! | AE12: #NUM! | AF12: #NUM! | AG12: #NUM! | AH12: #NUM!
C13: =IF(entry.form!E22<>"",entry.form!E22,"") | F13: =F12/COUNT(C3:C50) -> #DIV/0! | G13: Average depth | T13: #NUM! | U13: #NUM! | V13: #NUM! | W13: #NUM! | X13: #NUM! | Y13: #NUM! | Z13: #NUM! | AA13: #NUM! | AB13: #NUM! | AC13: #NUM! | AD13: #NUM! | AE13: #NUM! | AF13: #NUM! | AG13: #NUM! | AH13: #NUM!
C14: =IF(entry.form!E23<>"",entry.form!E23,"") | U14: #NUM! | V14: #NUM! | W14: #NUM! | X14: #NUM! | Y14: #NUM! | Z14: #NUM! | AA14: #NUM! | AB14: #NUM! | AC14: #NUM! | AD14: #NUM! | AE14: #NUM! | AF14: #NUM! | AG14: #NUM! | AH14: #NUM!
C15: =IF(entry.form!H12<>"",entry.form!H12,"") | V15: #NUM! | W15: #NUM! | X15: #NUM! | Y15: #NUM! | Z15: #NUM! | AA15: #NUM! | AB15: #NUM! | AC15: #NUM! | AD15: #NUM! | AE15: #NUM! | AF15: #NUM! | AG15: #NUM! | AH15: #NUM!
C16: =IF(entry.form!H13<>"",entry.form!H13,"") | W16: #NUM! | X16: #NUM! | Y16: #NUM! | Z16: #NUM! | AA16: #NUM! | AB16: #NUM! | AC16: #NUM! | AD16: #NUM! | AE16: #NUM! | AF16: #NUM! | AG16: #NUM! | AH16: #NUM!
C17: =IF(entry.form!H14<>"",entry.form!H14,"") | X17: #NUM! | Y17: #NUM! | Z17: #NUM! | AA17: #NUM! | AB17: #NUM! | AC17: #NUM! | AD17: #NUM! | AE17: #NUM! | AF17: #NUM! | AG17: #NUM! | AH17: #NUM!
C18: =IF(entry.form!H15<>"",entry.form!H15,"") | Y18: #NUM! | Z18: #NUM! | AA18: #NUM! | AB18: #NUM! | AC18: #NUM! | AD18: #NUM! | AE18: #NUM! | AF18: #NUM! | AG18: #NUM! | AH18: #NUM!
C19: =IF(entry.form!H16<>"",entry.form!H16,"") | Z19: #NUM! | AA19: #NUM! | AB19: #NUM! | AC19: #NUM! | AD19: #NUM! | AE19: #NUM! | AF19: #NUM! | AG19: #NUM! | AH19: #NUM!
C20: =IF(entry.form!H17<>"",entry.form!H17,"") | AA20: #NUM! | AB20: #NUM! | AC20: #NUM! | AD20: #NUM! | AE20: #NUM! | AF20: #NUM! | AG20: #NUM! | AH20: #NUM!
C21: =IF(entry.form!H18<>"",entry.form!H18,"") | AB21: #NUM! | AC21: #NUM! | AD21: #NUM! | AE21: #NUM! | AF21: #NUM! | AG21: #NUM! | AH21: #NUM!
C22: =IF(entry.form!H19<>"",entry.form!H19,"") | AC22: #NUM! | AD22: #NUM! | AE22: #NUM! | AF22: #NUM! | AG22: #NUM! | AH22: #NUM!
C23: =IF(entry.form!H20<>"",entry.form!H20,"") | AD23: #NUM! | AE23: #NUM! | AF23: #NUM! | AG23: #NUM! | AH23: #NUM!
C24: =IF(entry.form!H21<>"",entry.form!H21,"") | AE24: #NUM! | AF24: #NUM! | AG24: #NUM! | AH24: #NUM!
C25: =IF(entry.form!H22<>"",entry.form!H22,"") | AF25: #NUM! | AG25: #NUM! | AH25: #NUM!
C26: =IF(entry.form!H23<>"",entry.form!H23,"") | AG26: #NUM! | AH26: #NUM!
C27: =IF(entry.form!$K12<>"",entry.form!$K12,"") | AH27: #NUM!
C28: =IF(entry.form!$K13<>"",entry.form!$K13,"")
C29: =IF(entry.form!$K14<>"",entry.form!$K14,"") | K29: =SUM(K4:K27) -> #NUM! | L29: =SUM(L4:L27) -> #NUM! | M29: =SUM(M4:M27) -> #NUM! | N29: =SUM(N4:N27) -> #NUM! | O29: =SUM(O4:O27) -> #NUM! | P29: =SUM(P4:P27) -> #NUM! | Q29: =SUM(Q4:Q27) -> #NUM! | R29: =SUM(R4:R27) -> #NUM! | ... AH29: =SUM(AH4:AH27) -> #NUM!
C30: =IF(entry.form!$K15<>"",entry.form!$K15,"")
C31: =IF(entry.form!$K16<>"",entry.form!$K16,"")
C32: =IF(entry.form!$K17<>"",entry.form!$K17,"")
C33: =IF(entry.form!$K18<>"",entry.form!$K18,"")
C34: =IF(entry.form!$K19<>"",entry.form!$K19,"")
C35: =IF(entry.form!$K20<>"",entry.form!$K20,"")
C36: =IF(entry.form!$K21<>"",entry.form!$K21,"")
C37: =IF(entry.form!$K22<>"",entry.form!$K22,"")
C38: =IF(entry.form!$K23<>"",entry.form!$K23,"")
C39: =IF(entry.form!$N12<>"",entry.form!$N12,"")
C40: =IF(entry.form!$N13<>"",entry.form!$N13,"")
C41: =IF(entry.form!$N14<>"",entry.form!$N14,"")
...
